BEGIN:VCALENDAR
VERSION:2.0
PRODID:-//Inclusion Langley Society - ECPv6.15.20//NONSGML v1.0//EN
CALSCALE:GREGORIAN
METHOD:PUBLISH
X-ORIGINAL-URL:https://inclusionlangley.com
X-WR-CALDESC:Events for Inclusion Langley Society
REFRESH-INTERVAL;VALUE=DURATION:PT1H
X-Robots-Tag:noindex
X-PUBLISHED-TTL:PT1H
BEGIN:VTIMEZONE
TZID:UTC
BEGIN:STANDARD
TZOFFSETFROM:+0000
TZOFFSETTO:+0000
TZNAME:UTC
DTSTART:20220101T000000
END:STANDARD
END:VTIMEZONE
BEGIN:VEVENT
DTSTART;TZID=UTC:20231202T080000
DTEND;TZID=UTC:20240108T170000
DTSTAMP:20260419T105542
CREATED:20231124T200139Z
LAST-MODIFIED:20231124T200139Z
UID:10000611-1701504000-1704733200@inclusionlangley.com
SUMMARY:Free Winter Experience at the White Rock Bright Walk
DESCRIPTION:Although already beautiful\, the White Rock Pier will become even more magical and festive during the holiday season. \nThe Bright Walk event will be returning this year\, kicking off along the waterfront on December 2\, 2023\, and will remain accessible nightly through early January. \nAmong the beautiful holiday lights is a beautifully illuminated light tunnel and a 20-foot Christmas tree.
URL:https://inclusionlangley.com/event/free-winter-experience-at-the-white-rock-bright-walk/
LOCATION:White Rock\, White Rock Pier\, White Rock\, BC\, V4B 1C3\, Canada
CATEGORIES:Community Events
ATTACH;FMTTYPE=image/jpeg:https://inclusionlangley.com/wp-content/uploads/2023/11/white-rock-light-tunnel.jpg
END:VEVENT
END:VCALENDAR