BEGIN:VCALENDAR
VERSION:2.0
PRODID:-//Inclusion Langley Society - ECPv6.15.20//NONSGML v1.0//EN
CALSCALE:GREGORIAN
METHOD:PUBLISH
X-ORIGINAL-URL:https://inclusionlangley.com
X-WR-CALDESC:Events for Inclusion Langley Society
REFRESH-INTERVAL;VALUE=DURATION:PT1H
X-Robots-Tag:noindex
X-PUBLISHED-TTL:PT1H
BEGIN:VTIMEZONE
TZID:UTC
BEGIN:STANDARD
TZOFFSETFROM:+0000
TZOFFSETTO:+0000
TZNAME:UTC
DTSTART:20240101T000000
END:STANDARD
END:VTIMEZONE
BEGIN:VEVENT
DTSTART;TZID=UTC:20250508T153000
DTEND;TZID=UTC:20250508T183000
DTSTAMP:20260421T084943
CREATED:20250422T210321Z
LAST-MODIFIED:20250422T210321Z
UID:10001126-1746718200-1746729000@inclusionlangley.com
SUMMARY:Teen Transition Planning Fair
DESCRIPTION:Teen Transition Planning Fair \nTeen Transition Planning Fair Flyer \n \n 
URL:https://inclusionlangley.com/event/teen-transition-planning-fair/
LOCATION:Langley Secondary School\, 21405 56 Avenue\, Langley\, BC\, V2Y 2N1\, Canada
CATEGORIES:Community Events,ILS Events
ATTACH;FMTTYPE=image/jpeg:https://inclusionlangley.com/wp-content/uploads/2025/04/Teen-Transition-Planning-Fair-Postcard.jpg
ORGANIZER;CN="Inclusion Langley Society":MAILTO:reception@inclusionlangley.com
END:VEVENT
END:VCALENDAR