BEGIN:VCALENDAR
VERSION:2.0
PRODID:-//Inclusion Langley Society - ECPv6.15.20//NONSGML v1.0//EN
CALSCALE:GREGORIAN
METHOD:PUBLISH
X-WR-CALNAME:Inclusion Langley Society
X-ORIGINAL-URL:https://inclusionlangley.com
X-WR-CALDESC:Events for Inclusion Langley Society
REFRESH-INTERVAL;VALUE=DURATION:PT1H
X-Robots-Tag:noindex
X-PUBLISHED-TTL:PT1H
BEGIN:VTIMEZONE
TZID:UTC
BEGIN:STANDARD
TZOFFSETFROM:+0000
TZOFFSETTO:+0000
TZNAME:UTC
DTSTART:20250101T000000
END:STANDARD
END:VTIMEZONE
BEGIN:VEVENT
DTSTART;VALUE=DATE:20260717
DTEND;VALUE=DATE:20260720
DTSTAMP:20260423T045938
CREATED:20260421T182820Z
LAST-MODIFIED:20260421T182820Z
UID:10001810-1784246400-1784505599@inclusionlangley.com
SUMMARY:Aldergrove Fair
DESCRIPTION:The Aldergrove Fair is a long‐standing\, family‐centred community festival that celebrates Aldergrove’s agricultural heritage while providing accessible\, no or low‐cost activities for residents of all ages.\nThe 2026 Fair continues this tradition with a strong emphasis on children’s programming\, community engagement\, and ensuring that young families can participate.\nThe Fair’s children’s area remains a core feature\, with returning favourites such as the bouncy castle\, Yukon Dan’s gold panning\, the Greater Vancouver Zoo’s interactive displays\, and the dedicated Kids’ Stage on Saturday. These activities provide free\, high‐quality entertainment and learning opportunities for children\, supporting family participation and reducing financial barriers for households.\nAgriculture continues to anchor the event. The Fair is deepening its outreach to local farms\, inviting growers to participate through produce displays\, demonstrations\, sponsorships\, and educational programming. This strengthens relationships with the farming community\, supports local food systems\, and reinforces the Fair’s identity as a celebration of Aldergrove’s rural roots. Agricultural demonstrations\, competitions\, and heritage activities will continue to be featured throughout the weekend.\nThe Aldergrove Fair continues to be a cornerstone event for the Township of Langley—one that brings people together\, celebrates local heritage\, and provides inclusive\, family‐friendly experiences that strengthen community pride and connection. \n 
URL:https://inclusionlangley.com/event/aldergrove-fair/
LOCATION:26770 29 Avenue\, 26770 29 Avenue\, Aldergrove\, BC\, V4W 3B8\, Canada
CATEGORIES:Community Events
ATTACH;FMTTYPE=image/webp:https://inclusionlangley.com/wp-content/uploads/2026/04/ff-0675a3a98ec58a1dd8f18ae33e80d466-ff-2026-Sponsorship-page-1.webp
END:VEVENT
END:VCALENDAR