BEGIN:VCALENDAR
VERSION:2.0
PRODID:-//Inclusion Langley Society - ECPv6.15.20//NONSGML v1.0//EN
CALSCALE:GREGORIAN
METHOD:PUBLISH
X-WR-CALNAME:Inclusion Langley Society
X-ORIGINAL-URL:https://inclusionlangley.com
X-WR-CALDESC:Events for Inclusion Langley Society
REFRESH-INTERVAL;VALUE=DURATION:PT1H
X-Robots-Tag:noindex
X-PUBLISHED-TTL:PT1H
BEGIN:VTIMEZONE
TZID:UTC
BEGIN:STANDARD
TZOFFSETFROM:+0000
TZOFFSETTO:+0000
TZNAME:UTC
DTSTART:20250101T000000
END:STANDARD
END:VTIMEZONE
BEGIN:VEVENT
DTSTART;TZID=UTC:20260501T060000
DTEND;TZID=UTC:20260501T220000
DTSTAMP:20260423T013822
CREATED:20260421T185344Z
LAST-MODIFIED:20260421T185344Z
UID:10001813-1777615200-1777672800@inclusionlangley.com
SUMMARY:Youth Week
DESCRIPTION:When\n\n\nMay 1 2026\, 6:00am – 10:00pm\nMay 2 2026\, 8:00am – 9:30pm\nMay 3 2026\, 8:00am – 8:00pm\nMay 4 2026\, 6:00am – 10:00pm\nMay 5 2026\, 6:00am – 10:00pm\nMay 6 2026\, 6:00am – 10:00pm\nMay 7 2026\, 6:00am – 10:00pm\n\nView Less\n\n\nLocation\nTimms Community Centre – 20399 Douglas Crescent\n\n\nHosted by: Langley City Recreation\, Culture and Community Services Department \n\n\n\n  \n\n\n\nBC Youth Week is a provincial celebration of youth held annually during the first week of May. It is a week of fun filled interaction and a celebration intended to build a strong connection between youth and their communities. This event is intended to highlight the interests\, accomplishments\, and diversity of youth across the province.
URL:https://inclusionlangley.com/event/youth-week/2026-05-01/
LOCATION:TIMMS COMMUNITY CENTRE\, 20399 DOUGLAS CRESCENT\, Langley\, BC\, V3A 8T4\, Canada
CATEGORIES:Community Events
ATTACH;FMTTYPE=image/png:https://inclusionlangley.com/wp-content/uploads/2026/04/Youth-Week-Event-Page-Banner-Image-v2_0.png
END:VEVENT
BEGIN:VEVENT
DTSTART;TZID=UTC:20260502T080000
DTEND;TZID=UTC:20260502T213000
DTSTAMP:20260423T013822
CREATED:20260421T185344Z
LAST-MODIFIED:20260421T185344Z
UID:10001814-1777708800-1777757400@inclusionlangley.com
SUMMARY:Youth Week
DESCRIPTION:When\n\n\nMay 1 2026\, 6:00am – 10:00pm\nMay 2 2026\, 8:00am – 9:30pm\nMay 3 2026\, 8:00am – 8:00pm\nMay 4 2026\, 6:00am – 10:00pm\nMay 5 2026\, 6:00am – 10:00pm\nMay 6 2026\, 6:00am – 10:00pm\nMay 7 2026\, 6:00am – 10:00pm\n\nView Less\n\n\nLocation\nTimms Community Centre – 20399 Douglas Crescent\n\n\nHosted by: Langley City Recreation\, Culture and Community Services Department \n\n\n\n  \n\n\n\nBC Youth Week is a provincial celebration of youth held annually during the first week of May. It is a week of fun filled interaction and a celebration intended to build a strong connection between youth and their communities. This event is intended to highlight the interests\, accomplishments\, and diversity of youth across the province.
URL:https://inclusionlangley.com/event/youth-week/2026-05-02/
LOCATION:TIMMS COMMUNITY CENTRE\, 20399 DOUGLAS CRESCENT\, Langley\, BC\, V3A 8T4\, Canada
CATEGORIES:Community Events
ATTACH;FMTTYPE=image/png:https://inclusionlangley.com/wp-content/uploads/2026/04/Youth-Week-Event-Page-Banner-Image-v2_0.png
END:VEVENT
BEGIN:VEVENT
DTSTART;TZID=UTC:20260503T080000
DTEND;TZID=UTC:20260503T200000
DTSTAMP:20260423T013822
CREATED:20260421T185344Z
LAST-MODIFIED:20260421T185344Z
UID:10001815-1777795200-1777838400@inclusionlangley.com
SUMMARY:Youth Week
DESCRIPTION:When\n\n\nMay 1 2026\, 6:00am – 10:00pm\nMay 2 2026\, 8:00am – 9:30pm\nMay 3 2026\, 8:00am – 8:00pm\nMay 4 2026\, 6:00am – 10:00pm\nMay 5 2026\, 6:00am – 10:00pm\nMay 6 2026\, 6:00am – 10:00pm\nMay 7 2026\, 6:00am – 10:00pm\n\nView Less\n\n\nLocation\nTimms Community Centre – 20399 Douglas Crescent\n\n\nHosted by: Langley City Recreation\, Culture and Community Services Department \n\n\n\n  \n\n\n\nBC Youth Week is a provincial celebration of youth held annually during the first week of May. It is a week of fun filled interaction and a celebration intended to build a strong connection between youth and their communities. This event is intended to highlight the interests\, accomplishments\, and diversity of youth across the province.
URL:https://inclusionlangley.com/event/youth-week/2026-05-03/
LOCATION:TIMMS COMMUNITY CENTRE\, 20399 DOUGLAS CRESCENT\, Langley\, BC\, V3A 8T4\, Canada
CATEGORIES:Community Events
ATTACH;FMTTYPE=image/png:https://inclusionlangley.com/wp-content/uploads/2026/04/Youth-Week-Event-Page-Banner-Image-v2_0.png
END:VEVENT
BEGIN:VEVENT
DTSTART;TZID=UTC:20260504T060000
DTEND;TZID=UTC:20260504T220000
DTSTAMP:20260423T013822
CREATED:20260421T185344Z
LAST-MODIFIED:20260421T185344Z
UID:10001816-1777874400-1777932000@inclusionlangley.com
SUMMARY:Youth Week
DESCRIPTION:When\n\n\nMay 1 2026\, 6:00am – 10:00pm\nMay 2 2026\, 8:00am – 9:30pm\nMay 3 2026\, 8:00am – 8:00pm\nMay 4 2026\, 6:00am – 10:00pm\nMay 5 2026\, 6:00am – 10:00pm\nMay 6 2026\, 6:00am – 10:00pm\nMay 7 2026\, 6:00am – 10:00pm\n\nView Less\n\n\nLocation\nTimms Community Centre – 20399 Douglas Crescent\n\n\nHosted by: Langley City Recreation\, Culture and Community Services Department \n\n\n\n  \n\n\n\nBC Youth Week is a provincial celebration of youth held annually during the first week of May. It is a week of fun filled interaction and a celebration intended to build a strong connection between youth and their communities. This event is intended to highlight the interests\, accomplishments\, and diversity of youth across the province.
URL:https://inclusionlangley.com/event/youth-week/2026-05-04/
LOCATION:TIMMS COMMUNITY CENTRE\, 20399 DOUGLAS CRESCENT\, Langley\, BC\, V3A 8T4\, Canada
CATEGORIES:Community Events
ATTACH;FMTTYPE=image/png:https://inclusionlangley.com/wp-content/uploads/2026/04/Youth-Week-Event-Page-Banner-Image-v2_0.png
END:VEVENT
BEGIN:VEVENT
DTSTART;TZID=UTC:20260505T060000
DTEND;TZID=UTC:20260505T220000
DTSTAMP:20260423T013822
CREATED:20260421T185344Z
LAST-MODIFIED:20260421T185344Z
UID:10001817-1777960800-1778018400@inclusionlangley.com
SUMMARY:Youth Week
DESCRIPTION:When\n\n\nMay 1 2026\, 6:00am – 10:00pm\nMay 2 2026\, 8:00am – 9:30pm\nMay 3 2026\, 8:00am – 8:00pm\nMay 4 2026\, 6:00am – 10:00pm\nMay 5 2026\, 6:00am – 10:00pm\nMay 6 2026\, 6:00am – 10:00pm\nMay 7 2026\, 6:00am – 10:00pm\n\nView Less\n\n\nLocation\nTimms Community Centre – 20399 Douglas Crescent\n\n\nHosted by: Langley City Recreation\, Culture and Community Services Department \n\n\n\n  \n\n\n\nBC Youth Week is a provincial celebration of youth held annually during the first week of May. It is a week of fun filled interaction and a celebration intended to build a strong connection between youth and their communities. This event is intended to highlight the interests\, accomplishments\, and diversity of youth across the province.
URL:https://inclusionlangley.com/event/youth-week/2026-05-05/
LOCATION:TIMMS COMMUNITY CENTRE\, 20399 DOUGLAS CRESCENT\, Langley\, BC\, V3A 8T4\, Canada
CATEGORIES:Community Events
ATTACH;FMTTYPE=image/png:https://inclusionlangley.com/wp-content/uploads/2026/04/Youth-Week-Event-Page-Banner-Image-v2_0.png
END:VEVENT
BEGIN:VEVENT
DTSTART;TZID=UTC:20260506T060000
DTEND;TZID=UTC:20260506T220000
DTSTAMP:20260423T013822
CREATED:20260421T185344Z
LAST-MODIFIED:20260421T185344Z
UID:10001818-1778047200-1778104800@inclusionlangley.com
SUMMARY:Youth Week
DESCRIPTION:When\n\n\nMay 1 2026\, 6:00am – 10:00pm\nMay 2 2026\, 8:00am – 9:30pm\nMay 3 2026\, 8:00am – 8:00pm\nMay 4 2026\, 6:00am – 10:00pm\nMay 5 2026\, 6:00am – 10:00pm\nMay 6 2026\, 6:00am – 10:00pm\nMay 7 2026\, 6:00am – 10:00pm\n\nView Less\n\n\nLocation\nTimms Community Centre – 20399 Douglas Crescent\n\n\nHosted by: Langley City Recreation\, Culture and Community Services Department \n\n\n\n  \n\n\n\nBC Youth Week is a provincial celebration of youth held annually during the first week of May. It is a week of fun filled interaction and a celebration intended to build a strong connection between youth and their communities. This event is intended to highlight the interests\, accomplishments\, and diversity of youth across the province.
URL:https://inclusionlangley.com/event/youth-week/2026-05-06/
LOCATION:TIMMS COMMUNITY CENTRE\, 20399 DOUGLAS CRESCENT\, Langley\, BC\, V3A 8T4\, Canada
CATEGORIES:Community Events
ATTACH;FMTTYPE=image/png:https://inclusionlangley.com/wp-content/uploads/2026/04/Youth-Week-Event-Page-Banner-Image-v2_0.png
END:VEVENT
BEGIN:VEVENT
DTSTART;TZID=UTC:20260507T060000
DTEND;TZID=UTC:20260507T220000
DTSTAMP:20260423T013822
CREATED:20260421T185344Z
LAST-MODIFIED:20260421T185344Z
UID:10001819-1778133600-1778191200@inclusionlangley.com
SUMMARY:Youth Week
DESCRIPTION:When\n\n\nMay 1 2026\, 6:00am – 10:00pm\nMay 2 2026\, 8:00am – 9:30pm\nMay 3 2026\, 8:00am – 8:00pm\nMay 4 2026\, 6:00am – 10:00pm\nMay 5 2026\, 6:00am – 10:00pm\nMay 6 2026\, 6:00am – 10:00pm\nMay 7 2026\, 6:00am – 10:00pm\n\nView Less\n\n\nLocation\nTimms Community Centre – 20399 Douglas Crescent\n\n\nHosted by: Langley City Recreation\, Culture and Community Services Department \n\n\n\n  \n\n\n\nBC Youth Week is a provincial celebration of youth held annually during the first week of May. It is a week of fun filled interaction and a celebration intended to build a strong connection between youth and their communities. This event is intended to highlight the interests\, accomplishments\, and diversity of youth across the province.
URL:https://inclusionlangley.com/event/youth-week/2026-05-07/
LOCATION:TIMMS COMMUNITY CENTRE\, 20399 DOUGLAS CRESCENT\, Langley\, BC\, V3A 8T4\, Canada
CATEGORIES:Community Events
ATTACH;FMTTYPE=image/png:https://inclusionlangley.com/wp-content/uploads/2026/04/Youth-Week-Event-Page-Banner-Image-v2_0.png
END:VEVENT
END:VCALENDAR