BEGIN:VCALENDAR
VERSION:2.0
PRODID:-//Inclusion Langley Society - ECPv6.15.20//NONSGML v1.0//EN
CALSCALE:GREGORIAN
METHOD:PUBLISH
X-ORIGINAL-URL:https://inclusionlangley.com
X-WR-CALDESC:Events for Inclusion Langley Society
REFRESH-INTERVAL;VALUE=DURATION:PT1H
X-Robots-Tag:noindex
X-PUBLISHED-TTL:PT1H
BEGIN:VTIMEZONE
TZID:UTC
BEGIN:STANDARD
TZOFFSETFROM:+0000
TZOFFSETTO:+0000
TZNAME:UTC
DTSTART:20240101T000000
END:STANDARD
END:VTIMEZONE
BEGIN:VEVENT
DTSTART;TZID=UTC:20251103T080000
DTEND;TZID=UTC:20261203T160000
DTSTAMP:20260419T104821
CREATED:20241113T172826Z
LAST-MODIFIED:20251112T165723Z
UID:10000719-1762156800-1796313600@inclusionlangley.com
SUMMARY:Christmas Toy Drive and Drive Through Winter Wonderland
DESCRIPTION:Christmas Toy Drive and Drive Through Winter Wonderland \nStarting Nov 3rd\, Inclusion Langley Society will be hosting a toy drive with all proceeds going to the Langley Christmas Bureau. \nA Toy Tower will be at our Head Office. Drop off any donation to 23535 44th Avenue\, Langley between 8 am and 4 pm on the dates below. \nBring All Unwrapped ‘New’ Toy Donations and be entered into our prize raffle Draw! \nNovember 3 – November 7 – Books\, Puzzles\, Craft Supplies \nNovember 10 – November 14 – Doll\, Action Figures \nNovember 17 – November 21 – Trains\, Planes\, Automobiles \nNovember 24 – November 28 – Sports Equipment\, Gift Cards\, Games\, Makeup \nTo Wrap up The Final Day of The Toy Drive December 5 from 11 am to 5 pm\, You are Invited to Join Inclusion Langley Society’s Drive – Through Winter Wonderland for Prizes and Much More…. \nWe Look Forward To Seeing You!
URL:https://inclusionlangley.com/event/christmas-toy-drive-and-drive-through-winter-wonderland/
LOCATION:23535 44 Avenue\, Langley\, 23535 44 Avenue\, Langley\, BC\, V2Z 2V2\, Canada
CATEGORIES:ILS Events
ATTACH;FMTTYPE=image/jpeg:https://inclusionlangley.com/wp-content/uploads/2025/11/Inclusion-Langley-Society-Toy-Drive-Weekly-2.jpg
ORGANIZER;CN="Inclusion Langley Society":MAILTO:reception@inclusionlangley.com
END:VEVENT
BEGIN:VEVENT
DTSTART;TZID=UTC:20260822T080000
DTEND;TZID=UTC:20260822T170000
DTSTAMP:20260419T104821
CREATED:20260219T183651Z
LAST-MODIFIED:20260219T183651Z
UID:10001804-1787385600-1787418000@inclusionlangley.com
SUMMARY:Gruesome Twosome 22k\, 11k & 5k
DESCRIPTION:Details\n\n\n\nAugust 22\, 2026\n27240 8 Ave\, Aldergrove\, Langley Township\, British Columbia V4W 2P8\, Canada\nVisit event website\n\n\nGruesome Twosome has been created to encourage running with a partner\, a friend\, a side kick… of course you can run individually also! It is a family friendly event! Your registration includes a finishers medal\, a $5.00 donation to BabyGoRound\, your event bib\, finish line food and lots of fun! \nChoose between a 22k\, 11k or 5k distance. Aldergrove Regional Park is a beautiful park with rolling meadows\, mixed forests and wide dirt packed trails. In and out of the forests you will be surrounded by views of mountain ranges and Mount Baker. There are wetland areas which are a very important habitat for a variety of wildlife including frogs\, salamanders\, beavers and two endangered fish species. \nThe park trails are wide\, hard packed dirt/gravel that flow in and out of forests and meadows. The 5ker’s will enjoy mainly flat trails moving in and out of forest and fields. The 11ker’s will be running a more rolling hill course around the entire park and the 22ker’s will be completing two laps of the 11k course. \n 
URL:https://inclusionlangley.com/event/gruesome-twosome-22k-11k-5k/
LOCATION:Aldergrove Regional Park\, 27240 8 Avenue\, Aldergrove\, BC\, V4W 2P8\, Canada
CATEGORIES:Community Events
ATTACH;FMTTYPE=image/webp:https://inclusionlangley.com/wp-content/uploads/2026/02/ff-9ec6d761044cf57f724c035e6b7cb7c6-ff-RLG-Gruesome-Twosome-293.webp
END:VEVENT
BEGIN:VEVENT
DTSTART;TZID=UTC:20261003T080000
DTEND;TZID=UTC:20261003T170000
DTSTAMP:20260419T104821
CREATED:20260219T183421Z
LAST-MODIFIED:20260219T183422Z
UID:10001803-1791014400-1791046800@inclusionlangley.com
SUMMARY:Live Love Run 21k\, 10k & 5k
DESCRIPTION:Details\n\n\n\nOctober 3\, 2026\n9451 Glover Road\, Langley Township\, BC\, Canada\nVisit event website\n\n\nThis family friendly event was created in support of two friends and community members who were fighting Breast Cancer. We are running to raise money for Abreast In A Boat\, to help and support those around us who face this disease everyday. Proceeds from your event registration will be donated to The Abreast In A Boat Dragon Boat Team. \nOur start and finish line will be at the Brae Island Regional Park. Our race routes will follow the Fort-to-Fort Trail.\nWe have four event distances options: 21k\, 10k\, 5k & 1k. All participants receive a finisher’s medal! Running with strollers filled with kids/babes are welcomed! \n 
URL:https://inclusionlangley.com/event/live-love-run-21k-10k-5k/
LOCATION:Brae Island Regional Park\, 9451 Glover Road\, Langley\, BC\, Canada
ATTACH;FMTTYPE=image/webp:https://inclusionlangley.com/wp-content/uploads/2026/02/ff-58e8a0f3218f1585a97e69dab9a23966-ff-RLG-Live-Love-Run-83-3.webp
END:VEVENT
BEGIN:VEVENT
DTSTART;TZID=UTC:20261113T080000
DTEND;TZID=UTC:20261113T170000
DTSTAMP:20260419T104821
CREATED:20260219T184307Z
LAST-MODIFIED:20260219T184307Z
UID:10001806-1794556800-1794589200@inclusionlangley.com
SUMMARY:Canada Classic Invitational
DESCRIPTION:Details\n\n\n\nNovember 13\, 2026\n7888 200 St\, Langley Twp\, British Columbia V2Y 3J4\, Canada\nVisit event website\n\n\nWatch the 30-second event preview:\nhttps://drive.google.com/file/d/1hDjazyd5_KYoD5mN0a2QbEKSUSHJrblD/view?usp=drive_link \nThe Canada Classic Invitational is a premier NCAA Division I women’s basketball showcase featuring elite U.S. programs competing in a multi-day international event format. \nDesigned as a destination-driven sporting event\, the Canada Classic Invitational blends high-level competition with tourism\, community engagement\, and brand-forward presentation. \nThe event attracts visiting teams\, staff\, families\, and fans across North America\, generating hotel demand\, regional visitation\, and national exposure for the host city. \nThe Canada Classic Invitational is a fully developed event property with established branding\, digital assets\, and an operational framework\, currently evaluating Langley as a potential long-term host location.
URL:https://inclusionlangley.com/event/canada-classic-invitational/
LOCATION:7888 200 St\, Langley Twp\, British Columbia V2Y 3J4\, Canada\, 7888 200 St\, Langley Twp\, BC\, V2Y 3J4\, Canada
CATEGORIES:Community Events
ATTACH;FMTTYPE=image/webp:https://inclusionlangley.com/wp-content/uploads/2026/02/Screenshot-2026-02-10-at-12.23.30-PM.webp
END:VEVENT
BEGIN:VEVENT
DTSTART;TZID=UTC:20261220T080000
DTEND;TZID=UTC:20261220T170000
DTSTAMP:20260419T104821
CREATED:20260219T183937Z
LAST-MODIFIED:20260219T183937Z
UID:10001805-1797753600-1797786000@inclusionlangley.com
SUMMARY:Langley Grand Christmas Market – Season 3
DESCRIPTION:Details\n\n\n\nNovember 21\, 2026\nSouth Langley Church\, 20098 22 Ave\, Langley Twp\, British Columbia V2Z 1X4\, Canada\nVisit event website\n\n\nLocal Harmony Markets presents Season 3 of Langley Grand Christmas Market on 21 November 2026\, where the magic of Christmas begins early! Located in the heart of our community\, this enchanting fair invites you to experience the unparalleled joy and wonder of Christmas.
URL:https://inclusionlangley.com/event/langley-grand-christmas-market-season-3/
LOCATION:South Langley Church\, 20098 22 Avenue\, Langley Twp\, BC\, V2Z 1X4\, Canada
CATEGORIES:Community Events
ATTACH;FMTTYPE=image/webp:https://inclusionlangley.com/wp-content/uploads/2026/02/ff-cb57d1ef0ba7a136d9c20e7270a959dc-ff-LGCM-26.webp
END:VEVENT
END:VCALENDAR